Workbook

Sheet Database sản phẩm
A1: product_id | B1: STT | C1: Nhóm sản phẩm | D1: Thương hiệu | E1: Mã nhóm vật tư | F1: Mã SKU | G1: Tên sản phẩm | H1: Đơn vị tính | I1: Giá bán chưa VAT (VNĐ)
A2: PHY-VPP-310907AC0D0F8A35 | B2: 1 | C2: Giấy photocopy & giấy chuyên dụng | D2: Bitex | E2: BITEX | F2: VPP.BTNOTE2*3 | G2: Giấy Notes 2*3 Bitex (4 màu | H2: Xấp | I2: 3900
A3: PHY-VPP-E8D907CEA6237B45 | B3: 2 | C3: Giấy photocopy & giấy chuyên dụng | D3: Bitex | E3: BITEX | F3: VPP.BTNOTE2*3CY | G3: Giấy Notes 2*3 Bitex cyber (5 màu) | H3: Xấp | I3: 4600
A4: PHY-VPP-A365282A58E9EFE3 | B4: 3 | C4: Giấy photocopy & giấy chuyên dụng | D4: Bitex | E4: BITEX | F4: VPP.BTNOTE3*3 | G4: Giấy Notes 3*3 Bitex (4 màu | H4: Xấp | I4: 5500
A5: PHY-VPP-016742D2AACD4FFE | B5: 4 | C5: Giấy photocopy & giấy chuyên dụng | D5: Bitex | E5: BITEX | F5: VPP.BTNOTE3*3CY | G5: Giấy Notes 3*3 Bitex cyber (5 màu) | H5: Xấp | I5: 6500
A6: PHY-VPP-7D5E362FE7AF21A0 | B6: 5 | C6: Giấy photocopy & giấy chuyên dụng | D6: Bitex | E6: BITEX | F6: VPP.BTNOTE3*4 | G6: Giấy Notes 3*4 Bitex (4 màu | H6: Xấp | I6: 7500
A7: PHY-VPP-3C59F77BE54AFC07 | B7: 6 | C7: Giấy photocopy & giấy chuyên dụng | D7: Bitex | E7: BITEX | F7: VPP.BTNOTE3*5 | G7: Giấy Notes 3*5 Bitex (4 màu | H7: Xấp | I7: 9000
A8: PHY-VPP-18B42C1104F2AA0F | B8: 7 | C8: Giấy photocopy & giấy chuyên dụng | D8: Bitex | E8: BITEX | F8: VPP.NOTE3*2CY | G8: Notes vàng 3*2 Bitex cyber Huy Tín | H8: Xấp | I8: 6500
A9: PHY-VPP-51C0601180E3153C | B9: 8 | C9: Giấy photocopy & giấy chuyên dụng | D9: Deli | E9: DELI | F9: LA9088 | G9: Giấy đánh dấu trang 5 màu | H9: Vỉ | I9: 15000
A10: PHY-VPP-2702010A8ECB67AC | B10: 9 | C10: Giấy photocopy & giấy chuyên dụng | D10: Deli | E10: DELI | F10: LA7616 | G10: Giấy nhắn 4 màu | H10: Tệp | I10: 21000
A11: PHY-VPP-4F93EDB0ADD427AA | B11: 10 | C11: Giấy photocopy & giấy chuyên dụng | D11: Deli | E11: DELI | F11: LA9064 | G11: Giấy nhắn 5 màu | H11: Vỉ | I11: 11500
A12: PHY-VPP-6BC17D8203D12F5F | B12: 11 | C12: Giấy photocopy & giấy chuyên dụng | D12: Deli | E12: DELI | F12: LA9060 | G12: Giấy nhắn 5 màu(A10202) | H12: Vỉ | I12: 15500
A13: PHY-VPP-69D33ABA4B6A62E8 | B13: 12 | C13: Giấy photocopy & giấy chuyên dụng | D13: Deli | E13: DELI | F13: LA9066 | G13: Giấy nhắn HS nhiều hình | H13: Vỉ | I13: 10500
... A58: PHY-VPP-59CBD0D3154C8332 | B58: 57 | C58: Giấy photocopy & giấy chuyên dụng | D58: Vĩnh Tiến | E58: VINHTIEN | F58: VT.VPM1 | G58: Giấy Memo màu, đế nhựa (8.5*11.6) 150 tờ | H58: Cái | I58: 9000
A59: PHY-VPP-4FF0412FB8283874 | B59: 58 | C59: Giấy photocopy & giấy chuyên dụng | E59: VMH | F59: VMH.A380PLUS | G59: Giấy A3 80 Plus | H59: Ram | I59: 155000
A60: PHY-VPP-33C5178F66BC8633 | B60: 59 | C60: Giấy photocopy & giấy chuyên dụng | E60: CT247 | F60: NC.FAX210 | G60: Giấy FAX 210 | H60: Cuộn | I60: 21000
A61: PHY-VPP-06365F828B1592C0 | B61: 60 | C61: Giấy photocopy & giấy chuyên dụng | E61: CT247 | F61: NC.FAX216 | G61: Giấy FAX 216 | H61: Cuộn | I61: 21000
A62: PHY-VPP-B1B09C875844B96B | B62: 61 | C62: Giấy photocopy & giấy chuyên dụng | E62: VMH | F62: G.FORTA4B | G62: Giấy Fort 80 A4 biển | H62: Ram | I62: 68000
A63: PHY-VPP-AED5383A406AA2F6 | B63: 62 | C63: Giấy photocopy & giấy chuyên dụng | E63: VMH | F63: G.FORTA4H | G63: Giấy Fort 80 A4 hồng | H63: Ram | I63: 68000
A64: PHY-VPP-E0564C71A4FAF663 | B64: 63 | C64: Giấy photocopy & giấy chuyên dụng | E64: VMH | F64: G.FORTA4L | G64: Giấy Fort 80 A4 lá | H64: Ram | I64: 68000
A65: PHY-VPP-2599249C316A71FF | B65: 64 | C65: Giấy photocopy & giấy chuyên dụng | E65: CT247 | F65: VPP.GGQ-VT | G65: Giấy Gói quà | H65: Tờ | I65: 900
A66: PHY-VPP-B741B507BE26759A | B66: 65 | C66: Giấy photocopy & giấy chuyên dụng | E66: CT247 | F66: VPP.GGQ-L | G66: Giấy Gói quà lớn | H66: Tờ | I66: 2500
A67: PHY-VPP-ED7D958554D8FAB7 | B67: 66 | C67: Giấy photocopy & giấy chuyên dụng | E67: CT247 | F67: VPP.GGQ-N | G67: Giấy Gói quà nhỏ | H67: Tờ | I67: 1400
A68: PHY-VPP-88D96FC80B2C4956 | B68: 67 | C68: Giấy photocopy & giấy chuyên dụng | E68: CT247 | F68: VPP.GGQ-T | G68: Giấy Gói quà trong | H68: Tờ | I68: 6500
A69: PHY-VPP-B34B0E61617131CA | B69: 68 | C69: Giấy photocopy & giấy chuyên dụng | E69: CT247 | F69: NC.GHK | G69: Giấy hạnh kiểm | H69: Xấp | I69: 25000
A70: PHY-VPP-BF6BF5C62B8974C5 | B70: 69 | C70: Giấy photocopy & giấy chuyên dụng | E70: VPP | F70: GDAD.GLCDM5.1 | G70: Giấy Hoa 5.1 (500T/Xấp) | H70: Tờ | I70: 1900
... A86: PHY-VPP-932E64EDE638FEED | B86: 85 | C86: Giấy photocopy & giấy chuyên dụng | E86: BITEX | F86: VPP.NOTE3*5 | G86: Note vàng 3x5 (12x/lốc) Huy Tín | H86: Xấp | I86: 14500
A87: PHY-VPP-DD3F04779BBF368B | B87: 86 | C87: Sổ, tập & giấy kiểm tra | D87: Deli | E87: DELI | F87: LA.E7506 | G87: Dấu nhảy 6 số | H87: Cái | I87: 225000
A88: PHY-VPP-8D60C7660D86EBD3 | B88: 87 | C88: Sổ, tập & giấy kiểm tra | D88: Deli | E88: DELI | F88: LA.E7508 | G88: Dấu nhảy 8 số | H88: Cái | I88: 315000
A89: PHY-VPP-99095AF0CFD344E3 | B89: 88 | C89: Sổ, tập & giấy kiểm tra | D89: Deli | E89: DELI | F89: LA.E7510 | G89: Dấu nhảy 10 số | H89: Cái | I89: 370000
A90: PHY-VPP-3B72B4070440175A | B90: 89 | C90: Sổ, tập & giấy kiểm tra | D90: Deli | E90: DELI | F90: LA7910 | G90: Sổ da 18K 7910 | H90: Hộp | I90: 61000
A91: PHY-VPP-783620E6A7106FAF | B91: 90 | C91: Sổ, tập & giấy kiểm tra | D91: Deli | E91: DELI | F91: LA7923 | G91: Sổ da 48K | H91: Quyển | I91: 36000
A92: PHY-VPP-B0F17DAB6853513E | B92: 91 | C92: Sổ, tập & giấy kiểm tra | D92: Deli | E92: DELI | F92: LA7703 | G92: Sổ học sinh | H92: Quyển | I92: 7500
A93: PHY-VPP-619934A680A9B34B | B93: 92 | C93: Sổ, tập & giấy kiểm tra | D93: Gibook | E93: TUONGSINH | F93: TS.GC007 | G93: TẬP "PINACO - ẮC QUY" 96 TRANG ĐL 80GSM IN 4OLY | H93: Quyển | I93: 7000
A94: PHY-VPP-7BDE79CF070AF537 | B94: 93 | C94: Sổ, tập & giấy kiểm tra | D94: Gibook | E94: TUONGSINH | F94: TS.GC006 | G94: Tập "PINACO - CON Ó" 96 TRANG ĐL 80GSM IN 4OLY | H94: Quyển | I94: 7000
A95: PHY-VPP-3486454F731E02E3 | B95: 94 | C95: Sổ, tập & giấy kiểm tra | D95: Gibook | E95: TUONGSINH | F95: TS.GC009 | G95: TẬP 96TR "GIA NAM", DL 80 GSM | H95: Quyển | I95: 8000
A96: PHY-VPP-FD558E9D23554A0D | B96: 95 | C96: Sổ, tập & giấy kiểm tra | D96: Gibook | E96: TUONGSINH | F96: TS.H2R48 | G96: Tập GB 200TR "Gấu dâu Loso", 80gsm, in caro | H96: Quyển | I96: 16000
A97: PHY-VPP-0A458D191A8406BA | B97: 96 | C97: Sổ, tập & giấy kiểm tra | D97: Gibook | E97: TUONGSINH | F97: TS.CC&CS.277-4 | G97: Tập Gibook " Tô Chữ Cái và Tô Chữ Số" | H97: Quyển | I97: 15000
A98: PHY-VPP-03B0A2759E4E4ED4 | B98: 97 | C98: Sổ, tập & giấy kiểm tra | D98: Gibook | E98: TUONGSINH | F98: TS.H1R30 | G98: Tập Gibook "Doremon 100" 96T In Caro 100gsm | H98: Quyển | I98: 9500
... A655: PHY-VPP-3D61214BB0BAD22A | B655: 654 | C655: Sổ, tập & giấy kiểm tra | D655: Vĩnh Tiến | E655: VINHTIEN | F655: VT.TVDG01 | G655: VỞ MỸ THUẬT DÀY 120GSM CÓ ĐẾ CỨNG | H655: Quyển | I655: 12000
A656: PHY-VPP-F70B98F8C83D6222 | B656: 655 | C656: Sổ, tập & giấy kiểm tra | E656: CUISO | F656: VPP.CUI-CR | G656: Cùi CARO trung | H656: Quyển | I656: 1800
A657: PHY-VPP-3A3111A5221BFD85 | B657: 656 | C657: Sổ, tập & giấy kiểm tra | E657: CUISO | F657: VPP.CUI-X | G657: Cùi giữ xe | H657: Quyển | I657: 6000
A658: PHY-VPP-B939AB684605A4D7 | B658: 657 | C658: Sổ, tập & giấy kiểm tra | E658: CUISO | F658: VPP.CUI2L-63*99 | G658: Cùi xé 2 liên 63*99 | H658: Quyển | I658: 3000
A659: PHY-VPP-9FC7727CA167AFD5 | B659: 658 | C659: Sổ, tập & giấy kiểm tra | E659: CUISO | F659: VPP.CUI-D | G659: Cùi xé đại loại TốT | H659: Quyển | I659: 4400
A660: PHY-VPP-98490FA9CCBBB7E4 | B660: 659 | C660: Sổ, tập & giấy kiểm tra | E660: CUISO | F660: VPP.CUI-TR-T | G660: Cùi xé trung loại TốT | H660: Quyển | I660: 4000
A661: PHY-VPP-E1D5CE299943239D | B661: 660 | C661: Sổ, tập & giấy kiểm tra | E661: CT247 | F661: NC.DOND | G661: Đơn xin việc dày | H661: Xấp | I661: 25000
A662: PHY-VPP-6AB7401BA7EC0871 | B662: 661 | C662: Sổ, tập & giấy kiểm tra | E662: CT247 | F662: NC.HD1LBANLON | G662: Hóa đơn bán lẻ 1 liên bản lớn | H662: Quyển | I662: 7000
A663: PHY-VPP-99D027C50EA718BC | B663: 662 | C663: Sổ, tập & giấy kiểm tra | E663: CT247 | F663: NC.HDXDAY | G663: Hóa đơn bán lẻ 1 liên xanh dày | H663: Quyển | I663: 7000
A664: PHY-VPP-3B8A68D4F046967D | B664: 663 | C664: Sổ, tập & giấy kiểm tra | E664: CT247 | F664: NC.HD-2L | G664: Hóa đơn bán lẻ 2 liên | H664: Quyển | I664: 7000
A665: PHY-VPP-D97CFAC257BD07F0 | B665: 664 | C665: Sổ, tập & giấy kiểm tra | E665: CT247 | F665: NC.HD-2LL | G665: HÓA ĐƠN BÁN LẺ 2 LIÊN CÓ LÓT | H665: Quyển | I665: 11500
A666: PHY-VPP-A600807EDD40099C | B666: 665 | C666: Sổ, tập & giấy kiểm tra | E666: CT247 | F666: NC.HDDO | G666: Hóa đơn bán lẻ đỏ | H666: Quyển | I666: 2100
A667: PHY-VPP-3032CD76F43CE0A8 | B667: 666 | C667: Sổ, tập & giấy kiểm tra | E667: CT247 | F667: NC.HDX | G667: Hóa đơn bán lẻ xanh | H667: Quyển | I667: 2100
... A696: PHY-VPP-EC9D71789877E5AD | B696: 695 | C696: Sổ, tập & giấy kiểm tra | E696: VPP | F696: TTT.T12CG96 | G696: Tập TTT 96 tr 12 con giáp (120q/T) | H696: Cái | I696: 8500
A697: PHY-VPP-09CF50CCECC9868E | B697: 696 | C697: Bút viết & mực viết | D697: Aodemei | E697: NAMKHA | F697: NK.MINIK009DEN | G697: Mini gel Aodemei Đen K009 | H697: Hộp | I697: 21000
A698: PHY-VPP-6023F595B91D12DA | B698: 697 | C698: Bút viết & mực viết | D698: Aodemei | E698: NAMKHA | F698: NK.MINIK009D | G698: Mini gel Aodemei Đỏ K009 | H698: Hộp | I698: 21000
A699: PHY-VPP-7A74D28A138BDA77 | B699: 698 | C699: Bút viết & mực viết | D699: Aodemei | E699: NAMKHA | F699: NK.MINIK009X | G699: Mini gel Aodemei xanh K009 | H699: Hộp | I699: 21000
A700: PHY-VPP-152E100C12241A88 | B700: 699 | C700: Bút viết & mực viết | D700: BIC | E700: VPP | F700: BIC4NGOI | G700: BIC 4 Ngòi | H700: Lốc | I700: 110000
A701: PHY-VPP-2C6F8F0E15D3C352 | B701: 700 | C701: Bút viết & mực viết | D701: Deli | E701: DELI | F701: LA03336 | G701: Bút bi dầu màu xanh | H701: Cây | I701: 3600
A702: PHY-VPP-80468C0AA9B7610A | B702: 701 | C702: Bút viết & mực viết | D702: Deli | E702: DELI | F702: LA.EU72-BK | G702: Bút Dạ Dầu 2 Đầu Màu Đen | H702: Chiếc | I702: 9500
A703: PHY-VPP-E15ACD746B566761 | B703: 702 | C703: Bút viết & mực viết | D703: Deli | E703: DELI | F703: LA.EU72-RD | G703: Bút Dạ Dầu 2 Đầu Màu Đỏ | H703: Chiếc | I703: 9500
A704: PHY-VPP-CAAF5C85C66A8A06 | B704: 703 | C704: Bút viết & mực viết | D704: Deli | E704: DELI | F704: LA.EU72-BL | G704: Bút Dạ Dầu 2 Đầu Màu Xanh | H704: Chiếc | I704: 9500
A705: PHY-VPP-C453E532AE71BFFA | B705: 704 | C705: Bút viết & mực viết | D705: Deli | E705: DELI | F705: LA.EU10420 | G705: Bút Dạ Kính 2 Đầu - Đen | H705: Chiếc | I705: 9000
A706: PHY-VPP-1A68A2B87F0B3D4B | B706: 705 | C706: Bút viết & mực viết | D706: Deli | E706: DELI | F706: LA.EU10440 | G706: Bút Dạ Kính 2 Đầu - Đỏ | H706: Chiếc | I706: 9000
A707: PHY-VPP-913296C3029FED62 | B707: 706 | C707: Bút viết & mực viết | D707: Deli | E707: DELI | F707: LA.EU10430 | G707: Bút Dạ Kính 2 Đầu - Xanh | H707: Chiếc | I707: 9000
A708: PHY-VPP-EDB298181E079F83 | B708: 707 | C708: Bút viết & mực viết | D708: Deli | E708: DELI | F708: LA603-VC | G708: Bút dấu dòng | H708: Cái | I708: 6500
... A1049: PHY-VPP-0F15AFEA5F180A07 | B1049: 1048 | C1049: Bút viết & mực viết | D1049: Zebra | E1049: CONI | F1049: CONI.BLD-ZEBRA-X | G1049: Bút lông dầu Zebra xanh | H1049: Hộp | I1049: 25000
A1050: PHY-VPP-AA84671048689779 | B1050: 1049 | C1050: Bút viết & mực viết | E1050: VPP | F1050: AD.MK107-18M | G1050: BLM Acrylic Marker 1 đầu 107-18M | H1050: Hộp | I1050: 39000
A1051: PHY-VPP-309C081EE93968E6 | B1051: 1050 | C1051: Bút viết & mực viết | E1051: VPP | F1051: AD.101, 6128-48M | G1051: BLM Acrylic Marker 48 Màu (101-48), (6128-48M) | H1051: Hộp | I1051: 94000
A1052: PHY-VPP-B0134CCB6E564E4A | B1052: 1051 | C1052: Bút viết & mực viết | E1052: VPP | F1052: GCAD.BUT003 | G1052: Bút 003 | H1052: Cây | I1052: 44000
A1053: PHY-VPP-CF16A4BBEF62AF0A | B1053: 1052 | C1053: Bút viết & mực viết | E1053: VPP | F1053: GDAD.BUT005 | G1053: Bút 005 | H1053: Cây | I1053: 37000
A1054: PHY-VPP-EBB30063480BBC77 | B1054: 1053 | C1054: Bút viết & mực viết | E1054: VPP | F1054: GDAD.BUT006 | G1054: Bút 006 | H1054: Cây | I1054: 37000
A1055: PHY-VPP-B57116C492B087A2 | B1055: 1054 | C1055: Bút viết & mực viết | E1055: VPP | F1055: GDAD.BUT007 | G1055: Bút 007 | H1055: Cây | I1055: 55000
A1056: PHY-VPP-B4B0CDAD41A655DD | B1056: 1055 | C1056: Bút viết & mực viết | E1056: VPP | F1056: GDAD.BUT008 | G1056: Bút 008 | H1056: Cây | I1056: 72000
A1057: PHY-VPP-29B9D57610859D50 | B1057: 1056 | C1057: Bút viết & mực viết | E1057: VPP | F1057: AD.BUT10NGOI | G1057: Bút 10 Ngòi | H1057: Lốc | I1057: 305000
A1058: PHY-VPP-99ABA0796331D3EC | B1058: 1057 | C1058: Bút viết & mực viết | E1058: VPP | F1058: GDAD.BUT022 | G1058: Bút 022 | H1058: Cây | I1058: 92000
A1059: PHY-VPP-91D416BAAD12B578 | B1059: 1058 | C1059: Bút viết & mực viết | E1059: VPP | F1059: GDAD.BUT023 | G1059: Bút 023 | H1059: Cây | I1059: 50000
A1060: PHY-VPP-5EB4D311D9C8EF01 | B1060: 1059 | C1060: Bút viết & mực viết | E1060: VPP | F1060: GDAD.BUT024 | G1060: Bút 024 | H1060: Cây | I1060: 125000
A1061: PHY-VPP-03377ED1CA7C8B7F | B1061: 1060 | C1061: Bút viết & mực viết | E1061: VPP | F1061: GDAD.BUT024CALLI | G1061: BÚT 024 CALLIGRAPHY khắc tên: Diên Phúc | H1061: Cây | I1061: 175000
... A1339: PHY-VPP-F4A1AABA84CFEAE5 | B1339: 1338 | C1339: Bút viết & mực viết | E1339: VPP | F1339: AD.XOAKEO99401 | G1339: XÓA KÉO 99401 | H1339: Vỉ | I1339: 24000
A1340: PHY-VPP-3BBBF0E4DDEA67A0 | B1340: 1339 | C1340: Bút chì, màu vẽ & mỹ thuật | D1340: Conte | E1340: CT247 | F1340: NC.BC-CT | G1340: Bút chì Conte thân xanh có gôm | H1340: Hộp | I1340: 27000
A1341: PHY-VPP-BB638F75EFABC102 | B1341: 1340 | C1341: Bút chì, màu vẽ & mỹ thuật | D1341: Conte | E1341: CT247 | F1341: NC.BC-CTK | G1341: Bút chì Conte thân xanh không gôm | H1341: Hộp | I1341: 21000
A1342: PHY-VPP-8D9D4F6D933AA051 | B1342: 1341 | C1342: Bút chì, màu vẽ & mỹ thuật | D1342: Deli | E1342: DELI | F1342: LA.CC098 | G1342: Bút Chì 2B | H1342: Chiếc | I1342: 3900
A1343: PHY-VPP-18C77812C2BE4823 | B1343: 1342 | C1343: Bút chì, màu vẽ & mỹ thuật | D1343: Deli | E1343: DELI | F1343: LA.EC016-2B | G1343: Bút Chì 2B | H1343: Chiếc | I1343: 3900
A1344: PHY-VPP-FECEB1FAD4270AE1 | B1344: 1343 | C1344: Bút chì, màu vẽ & mỹ thuật | D1344: Deli | E1344: DELI | F1344: LA37015 | G1344: Bút chì 2B | H1344: Cây | I1344: 3900
A1345: PHY-VPP-3FB8F4C64210A4F3 | B1345: 1344 | C1345: Bút chì, màu vẽ & mỹ thuật | D1345: Deli | E1345: DELI | F1345: LAEC005 | G1345: BÚT CHÌ 2B | H1345: Cây | I1345: 4600
A1346: PHY-VPP-ECCE64FB7D00E431 | B1346: 1345 | C1346: Bút chì, màu vẽ & mỹ thuật | D1346: Deli | E1346: DELI | F1346: LA53300 | G1346: Bút chì 2B - EU53300 | H1346: Cây | I1346: 3900
A1347: PHY-VPP-512593DA3C7AA6D5 | B1347: 1346 | C1347: Bút chì, màu vẽ & mỹ thuật | D1347: Deli | E1347: DELI | F1347: LA58101 | G1347: Bút chì 2B 58101 | H1347: Cây | I1347: 3500
A1348: PHY-VPP-4BA3170256FA9876 | B1348: 1347 | C1348: Bút chì, màu vẽ & mỹ thuật | D1348: Deli | E1348: DELI | F1348: LA58103 | G1348: Bút chì 2B 58103 | H1348: Cây | I1348: 3500
A1349: PHY-VPP-9C41CB8F25E2BEF7 | B1349: 1348 | C1349: Bút chì, màu vẽ & mỹ thuật | D1349: Deli | E1349: DELI | F1349: LACU24910 | G1349: Bút chì 2B cao cấp màu bạc | H1349: Cây | I1349: 5500
A1350: PHY-VPP-AD28D2BC3FFF952C | B1350: 1349 | C1350: Bút chì, màu vẽ & mỹ thuật | D1350: Deli | E1350: DELI | F1350: LACU24820 | G1350: Bút chì 2B cao cấp màu đen(ko gôm) | H1350: Cây | I1350: 5500
A1351: PHY-VPP-B132CE1729E5CF91 | B1351: 1350 | C1351: Bút chì, màu vẽ & mỹ thuật | D1351: Deli | E1351: DELI | F1351: LA001 | G1351: Bút chì 2B màu xanh EC001-2B | H1351: Cây | I1351: 2900
... A1833: PHY-VPP-27FEF82ADCAF08F1 | B1833: 1832 | C1833: Bút chì, màu vẽ & mỹ thuật | D1833: WinQ | E1833: QUYLUC | F1833: W.O-24 | G1833: Sáp dầu 24 màu WIN | H1833: Hộp | I1833: 25000
A1834: PHY-VPP-39CAA0E5E2583990 | B1834: 1833 | C1834: Bút chì, màu vẽ & mỹ thuật | E1834: THANGNCC | F1834: AD.CO6 | G1834: BỊCH CỌ 6 CÂY | H1834: Bộ | I1834: 18500
A1835: PHY-VPP-51C6F81FDBBD0495 | B1835: 1834 | C1835: Bút chì, màu vẽ & mỹ thuật | E1835: VPP | F1835: AD.CO6CAYTOT | G1835: Bịch cọ 6 cây - tốt - HB178, H96 | H1835: Bộ | I1835: 27000
A1836: PHY-VPP-4544BA54A6DC3313 | B1836: 1835 | C1836: Bút chì, màu vẽ & mỹ thuật | E1836: VPP | F1836: AD.CO6CAYCN63 | G1836: BỊCH CỌ 6 CÂY CN-63, G006 | H1836: Bộ | I1836: 35000
A1837: PHY-VPP-82E7708CE3F40056 | B1837: 1836 | C1837: Bút chì, màu vẽ & mỹ thuật | E1837: VPP | F1837: AD.CO6CAY07TRON | G1837: BỊCH CỌ 6 CÂY MÃ 07 - TRÒN | H1837: Bộ | I1837: 33000
A1838: PHY-VPP-8CE48FA4F131D33E | B1838: 1837 | C1838: Bút chì, màu vẽ & mỹ thuật | E1838: VPP | F1838: AD.CO6CAY08 | G1838: BỊCH CỌ 6 CÂY MÃ 08 | H1838: Bộ | I1838: 33000
A1839: PHY-VPP-3CC2A4FF25558BB9 | B1839: 1838 | C1839: Bút chì, màu vẽ & mỹ thuật | E1839: VPP | F1839: AD.CO6CAY | G1839: BỊCH CỌ 6 CÂY TỐT | H1839: Bộ | I1839: 32000
A1840: PHY-VPP-CEEBF023C0FC66EB | B1840: 1839 | C1840: Bút chì, màu vẽ & mỹ thuật | E1840: THANGNCC | F1840: AD.CO12 | G1840: BỊCH CỌ 12 CÂY | H1840: Bộ | I1840: 53000
A1841: PHY-VPP-01958D7F82FCDD36 | B1841: 1840 | C1841: Bút chì, màu vẽ & mỹ thuật | E1841: BITEX | F1841: VPP.SK-DC20N | G1841: Bột nặn Dough 20 g/4 hủ 4 màu Neon + khuôn /SK-DC20N | H1841: Vĩ | I1841: 25000
...

Sheet Danh mục nhóm
A1: DANH MỤC NHÓM SẢN PHẨM
A3: Thứ tự | B3: Nhóm sản phẩm | C3: Phạm vi | D3: Số sản phẩm | E3: Tỷ trọng
A4: 1 | B4: Giấy photocopy & giấy chuyên dụng | C4: Giấy photocopy, giấy in, giấy than, giấy note và giấy chuyên dụng. | D4: =COUNTIF('Database sản phẩm'!$C$2:$C$3400,B4) -> 85 | E4: =D4/3399 -> 0.025007355
A5: 2 | B5: Sổ, tập & giấy kiểm tra | C5: Sổ, tập/vở học sinh, giấy hoặc tệp kiểm tra, giáo án và cùi biểu mẫu. | D5: =COUNTIF('Database sản phẩm'!$C$2:$C$3400,B5) -> 610 | E5: =D5/3399 -> 0.17946455
A6: 3 | B6: Bút viết & mực viết | C6: Bút bi, bút máy, bút lông, bút gel, ruột/ngòi và mực dùng cho bút. | D6: =COUNTIF('Database sản phẩm'!$C$2:$C$3400,B6) -> 643 | E6: =D6/3399 -> 0.18917329
A7: 4 | B7: Bút chì, màu vẽ & mỹ thuật | C7: Bút chì, gôm, chuốt, sáp, màu, đất nặn, vở vẽ và dụng cụ mỹ thuật. | D7: =COUNTIF('Database sản phẩm'!$C$2:$C$3400,B7) -> 728 | E7: =D7/3399 -> 0.21418064
A8: 5 | B8: Bìa, file & hồ sơ | C8: Bìa lá, bìa nút, file, folder, trình ký, cặp và túi hồ sơ. | D8: =COUNTIF('Database sản phẩm'!$C$2:$C$3400,B8) -> 169 | E8: =D8/3399 -> 0.049720506
A9: 6 | B9: Kẹp, ghim & dụng cụ bấm | C9: Kim/ghim, kẹp giấy, kẹp bướm, máy bấm, bấm lỗ và gỡ kim. | D9: =COUNTIF('Database sản phẩm'!$C$2:$C$3400,B9) -> 94 | E9: =D9/3399 -> 0.027655193
A10: 7 | B10: Băng keo, keo dán & nhãn | C10: Băng keo, keo/hồ dán, nhãn vở, decal và giấy phân trang. | D10: =COUNTIF('Database sản phẩm'!$C$2:$C$3400,B10) -> 133 | E10: =D10/3399 -> 0.039129156
A11: 8 | B11: Dụng cụ cắt, đo & bàn làm việc | C11: Kéo, dao, lưỡi dao, thước, ê-ke, compa, khay/kệ và phụ kiện để bàn. | D11: =COUNTIF('Database sản phẩm'!$C$2:$C$3400,B11) -> 214 | E11: =D11/3399 -> 0.062959694
A12: 9 | B12: Máy tính & thiết bị văn phòng | C12: Máy tính cầm tay, máy ép, máy hủy, máy in và thiết bị văn phòng khác. | D12: =COUNTIF('Database sản phẩm'!$C$2:$C$3400,B12) -> 91 | E12: =D12/3399 -> 0.02677258
A13: 10 | B13: Mực, dấu & phụ kiện in | C13: Mực dấu, hộp dấu, con dấu, mực in, hộp mực và phụ kiện in. | D13: =COUNTIF('Database sản phẩm'!$C$2:$C$3400,B13) -> 17 | E13: =D13/3399 -> 0.005001471
A14: 11 | B14: Bao thư, bao tập & túi | C14: Bao thư, bao tập/sách, bao hồ sơ, túi kiểm tra, thiệp và bao bì giấy. | D14: =COUNTIF('Database sản phẩm'!$C$2:$C$3400,B14) -> 103 | E14: =D14/3399 -> 0.03030303
A15: 12 | B15: Bảng, phấn & phụ kiện | C15: Bảng học sinh/văn phòng, phấn, lau bảng, kẹp và hộp đựng phấn. | D15: =COUNTIF('Database sản phẩm'!$C$2:$C$3400,B15) -> 59 | E15: =D15/3399 -> 0.017358046
... A18: 15 | B18: Sản phẩm khác | C18: Sản phẩm chưa đủ thông tin để xếp chính xác vào các nhóm chuẩn. | D18: =COUNTIF('Database sản phẩm'!$C$2:$C$3400,B18) -> 23 | E18: =D18/3399 -> 0.0067666961

Sheet Danh mục thương hiệu
A1: DANH MỤC THƯƠNG HIỆU VÀ NGUỒN ĐỐI CHIẾU
A3: Thương hiệu | B3: Tên/biến thể nhận diện | C3: Căn cứ gán | D3: Nguồn tham chiếu | E3: Số sản phẩm | F3: Tỷ trọng
A4: Aodemei | B4: Aodemei | C4: Tên sản phẩm | E4: =COUNTIF('Database sản phẩm'!$D$2:$D$3400,A4) -> 3 | F4: =E4/3399 -> 0.00088261253
A5: BIC | B5: BIC | C5: Tên sản phẩm | D5: https://www.bic.com/ | E5: =COUNTIF('Database sản phẩm'!$D$2:$D$3400,A5) -> 1 | F5: =E5/3399 -> 0.00029420418
A6: Bình Tân | B6: Bình Tân; mã BT.* | C6: Tên sản phẩm và tiền tố SKU | E6: =COUNTIF('Database sản phẩm'!$D$2:$D$3400,A6) -> 23 | F6: =E6/3399 -> 0.0067666961
A7: Bitex | B7: BITEX | C7: Tên sản phẩm | D7: https://bitex.com.vn/ | E7: =COUNTIF('Database sản phẩm'!$D$2:$D$3400,A7) -> 7 | F7: =E7/3399 -> 0.0020594292
A8: Casio | B8: Casio | C8: Tên sản phẩm; BITEX là nhà phân phối chính thức | D8: https://bitex.com.vn/vi/san-pham/may-tinh-casio.html | E8: =COUNTIF('Database sản phẩm'!$D$2:$D$3400,A8) -> 52 | F8: =E8/3399 -> 0.015298617
A9: Conte | B9: Conte | C9: Tên sản phẩm | E9: =COUNTIF('Database sản phẩm'!$D$2:$D$3400,A9) -> 2 | F9: =E9/3399 -> 0.00058840836
A10: Cường Thịnh | B10: Cường Thịnh | C10: Tên sản phẩm | E10: =COUNTIF('Database sản phẩm'!$D$2:$D$3400,A10) -> 2 | F10: =E10/3399 -> 0.00058840836
A11: Deli | B11: Deli; mã nhóm DELI | C11: Tên sản phẩm và nhóm hàng đã xác minh | D11: https://www.deliworld.com/ | E11: =COUNTIF('Database sản phẩm'!$D$2:$D$3400,A11) -> 377 | F11: =E11/3399 -> 0.11091497
A12: Double A | B12: Double A | C12: Tên sản phẩm | D12: https://www.doubleapaper.com/ | E12: =COUNTIF('Database sản phẩm'!$D$2:$D$3400,A12) -> 5 | F12: =E12/3399 -> 0.0014710209
A13: Đăng Khôi | B13: Đăng Khôi | C13: Tên sản phẩm | E13: =COUNTIF('Database sản phẩm'!$D$2:$D$3400,A13) -> 4 | F13: =E13/3399 -> 0.0011768167
A14: Excell | B14: Excell | C14: Tên sản phẩm | E14: =COUNTIF('Database sản phẩm'!$D$2:$D$3400,A14) -> 4 | F14: =E14/3399 -> 0.0011768167
A15: G-Star | B15: G-Star; Gstar; Gtar; mã GT.* | C15: Tên sản phẩm và nhóm hàng đã xác minh | D15: https://www.sowigstar.vn/van-phong-pham-gstar-donga | E15: =COUNTIF('Database sản phẩm'!$D$2:$D$3400,A15) -> 240 | F15: =E15/3399 -> 0.070609003
A16: Gibook | B16: Gibook; mã nhóm TUONGSINH | C16: Tên sản phẩm và website Công ty Tương Sinh | D16: https://tuongsinh.vn/ | E16: =COUNTIF('Database sản phẩm'!$D$2:$D$3400,A16) -> 158 | F16: =E16/3399 -> 0.04648426
A17: Gidosa | B17: Gidosa; mã GDS.* | C17: Tên sản phẩm và tiền tố SKU | E17: =COUNTIF('Database sản phẩm'!$D$2:$D$3400,A17) -> 18 | F17: =E17/3399 -> 0.0052956752
A18: Hanson | B18: Hanson; Han Son; Hán Sơn; mã HS.* | C18: Tên sản phẩm và tiền tố SKU | E18: =COUNTIF('Database sản phẩm'!$D$2:$D$3400,A18) -> 93 | F18: =E18/3399 -> 0.027360989
A19: Hero | B19: Hero | C19: Tên sản phẩm | E19: =COUNTIF('Database sản phẩm'!$D$2:$D$3400,A19) -> 2 | F19: =E19/3399 -> 0.00058840836
A20: Hòa Bình | B20: Hòa Bình; mã HB.* | C20: Tên sản phẩm, mã nhóm và website hãng | D20: https://giaytaphoabinh.com/gioi-thieu | E20: =COUNTIF('Database sản phẩm'!$D$2:$D$3400,A20) -> 41 | F20: =E20/3399 -> 0.012062371
A21: Hoa Đào | B21: Hoa Đào | C21: Tên sản phẩm | E21: =COUNTIF('Database sản phẩm'!$D$2:$D$3400,A21) -> 4 | F21: =E21/3399 -> 0.0011768167
A22: Horse | B22: Horse | C22: Tên sản phẩm | E22: =COUNTIF('Database sản phẩm'!$D$2:$D$3400,A22) -> 2 | F22: =E22/3399 -> 0.00058840836
A23: Hồng Ân | B23: Hồng Ân | C23: Tên sản phẩm | E23: =COUNTIF('Database sản phẩm'!$D$2:$D$3400,A23) -> 5 | F23: =E23/3399 -> 0.0014710209
A24: Hồng Hà | B24: Hồng Hà; mã HH.* | C24: Tên sản phẩm và nhóm hàng đã xác minh | D24: https://vpphongha.com.vn/ | E24: =COUNTIF('Database sản phẩm'!$D$2:$D$3400,A24) -> 403 | F24: =E24/3399 -> 0.11856428
A25: Idea | B25: Idea | C25: Tên sản phẩm | E25: =COUNTIF('Database sản phẩm'!$D$2:$D$3400,A25) -> 2 | F25: =E25/3399 -> 0.00058840836
A26: IK Plus | B26: IK Plus; IK Plus+ | C26: Tên sản phẩm | E26: =COUNTIF('Database sản phẩm'!$D$2:$D$3400,A26) -> 3 | F26: =E26/3399 -> 0.00088261253
A27: Joyko | B27: Joyko | C27: Tên sản phẩm | D27: https://joyko.co.id/ | E27: =COUNTIF('Database sản phẩm'!$D$2:$D$3400,A27) -> 3 | F27: =E27/3399 -> 0.00088261253
A28: Kangaro | B28: Kangaro | C28: Tên sản phẩm | D28: https://www.kangaro.com/ | E28: =COUNTIF('Database sản phẩm'!$D$2:$D$3400,A28) -> 3 | F28: =E28/3399 -> 0.00088261253
A29: Kim Nguyên | B29: Kim Nguyên; mã KN.* | C29: Tên sản phẩm và tiền tố SKU | E29: =COUNTIF('Database sản phẩm'!$D$2:$D$3400,A29) -> 6 | F29: =E29/3399 -> 0.0017652251
A30: Kim Phượng | B30: Kim Phượng; K.Phượng; mã KP.* | C30: Tên sản phẩm và tiền tố SKU | E30: =COUNTIF('Database sản phẩm'!$D$2:$D$3400,A30) -> 12 | F30: =E30/3399 -> 0.0035304501
A31: Little Fish | B31: Little Fish | C31: Tên sản phẩm | E31: =COUNTIF('Database sản phẩm'!$D$2:$D$3400,A31) -> 5 | F31: =E31/3399 -> 0.0014710209
A32: Maped | B32: Maped | C32: Tên sản phẩm | D32: https://www.maped.com/ | E32: =COUNTIF('Database sản phẩm'!$D$2:$D$3400,A32) -> 11 | F32: =E32/3399 -> 0.003236246
A33: MIC | B33: MIC; mã nhóm MIC | C33: Tên sản phẩm, mã nhóm và website hãng | D33: https://tbgdphanmic.com/ | E33: =COUNTIF('Database sản phẩm'!$D$2:$D$3400,A33) -> 20 | F33: =E33/3399 -> 0.0058840836
A34: Munix | B34: Munix | C34: Tên sản phẩm | E34: =COUNTIF('Database sản phẩm'!$D$2:$D$3400,A34) -> 9 | F34: =E34/3399 -> 0.0026478376
A35: Nam Kha | B35: Nam Kha | C35: Tên sản phẩm | E35: =COUNTIF('Database sản phẩm'!$D$2:$D$3400,A35) -> 1 | F35: =E35/3399 -> 0.00029420418
A36: Net | B36: Net | C36: Tên sản phẩm | E36: =COUNTIF('Database sản phẩm'!$D$2:$D$3400,A36) -> 5 | F36: =E36/3399 -> 0.0014710209
A37: PaperOne | B37: PaperOne; Paper One | C37: Tên sản phẩm | D37: https://www.paperone.com/ | E37: =COUNTIF('Database sản phẩm'!$D$2:$D$3400,A37) -> 1 | F37: =E37/3399 -> 0.00029420418
A38: Pentel | B38: Pentel | C38: Tên sản phẩm | D38: https://www.pentel.com/ | E38: =COUNTIF('Database sản phẩm'!$D$2:$D$3400,A38) -> 3 | F38: =E38/3399 -> 0.00088261253
A39: Plus | B39: Plus | C39: Tên sản phẩm rõ thương hiệu, không tính hậu tố model | D39: https://www.plus.co.jp/en/ | E39: =COUNTIF('Database sản phẩm'!$D$2:$D$3400,A39) -> 1 | F39: =E39/3399 -> 0.00029420418
A40: Queen | B40: Queen; mã Q.* | C40: Tên sản phẩm và website nhãn hàng Queen | D40: https://queenstationery.com.vn/vn/gioi-thieu.html | E40: =COUNTIF('Database sản phẩm'!$D$2:$D$3400,A40) -> 59 | F40: =E40/3399 -> 0.017358046
A41: SDI | B41: SDI | C41: Tên sản phẩm | D41: https://www.sdi.com.tw/ | E41: =COUNTIF('Database sản phẩm'!$D$2:$D$3400,A41) -> 2 | F41: =E41/3399 -> 0.00058840836
A42: Shiny | B42: Shiny; Shinny | C42: Tên sản phẩm | D42: https://www.shiny.com.tw/ | E42: =COUNTIF('Database sản phẩm'!$D$2:$D$3400,A42) -> 1 | F42: =E42/3399 -> 0.00029420418
A43: SIK | B43: SIK; Sik | C43: Tên sản phẩm | E43: =COUNTIF('Database sản phẩm'!$D$2:$D$3400,A43) -> 8 | F43: =E43/3399 -> 0.0023536334
A44: Stacom | B44: Stacom; mã ST.* | C44: Tên sản phẩm, mã nhóm và website hãng | D44: https://stacom.vn/san-pham/ | E44: =COUNTIF('Database sản phẩm'!$D$2:$D$3400,A44) -> 121 | F44: =E44/3399 -> 0.035598706
A45: Thảo Linh | B45: Thảo Linh; mã TL.* | C45: Tên sản phẩm và tiền tố SKU | E45: =COUNTIF('Database sản phẩm'!$D$2:$D$3400,A45) -> 8 | F45: =E45/3399 -> 0.0023536334
A46: Thịnh Phát | B46: Thịnh Phát | C46: Tên sản phẩm | E46: =COUNTIF('Database sản phẩm'!$D$2:$D$3400,A46) -> 18 | F46: =E46/3399 -> 0.0052956752
A47: Thuận Tiến | B47: Thuận Tiến; mã TT.* | C47: Tên sản phẩm, mã nhóm và website hãng | D47: https://tanthuantienpaper.com/thuong-hieu-san-pham-tan-thuan-tien | E47: =COUNTIF('Database sản phẩm'!$D$2:$D$3400,A47) -> 37 | F47: =E47/3399 -> 0.010885555
A48: Tiến Phát | B48: Tiến Phát; mã TP.* | C48: Tên sản phẩm, mã nhóm và website hãng | D48: https://tienphat.com/ | E48: =COUNTIF('Database sản phẩm'!$D$2:$D$3400,A48) -> 64 | F48: =E48/3399 -> 0.018829067
A49: Todo Suyo | B49: Todo Suyo | C49: Tên sản phẩm | E49: =COUNTIF('Database sản phẩm'!$D$2:$D$3400,A49) -> 3 | F49: =E49/3399 -> 0.00088261253
A50: Uni-ball | B50: Uni-ball; Uniball | C50: Tên sản phẩm | D50: https://www.unibrands.co/ | E50: =COUNTIF('Database sản phẩm'!$D$2:$D$3400,A50) -> 3 | F50: =E50/3399 -> 0.00088261253
A51: Vinacal | B51: Vinacal | C51: Tên sản phẩm | E51: =COUNTIF('Database sản phẩm'!$D$2:$D$3400,A51) -> 3 | F51: =E51/3399 -> 0.00088261253
A52: Vĩnh Tiến | B52: Vĩnh Tiến; Vibook; mã VT.* | C52: Tên sản phẩm, mã nhóm và website hãng | D52: https://www.vinhtienpaper.com.vn/vn/vibook.html | E52: =COUNTIF('Database sản phẩm'!$D$2:$D$3400,A52) -> 186 | F52: =E52/3399 -> 0.054721977
A53: WinQ | B53: WinQ; Win Q; WIN; mã W.* | C53: Tên sản phẩm, mã nhóm và website Công ty Qui Lực | D53: https://quiluc.com.vn/ | E53: =COUNTIF('Database sản phẩm'!$D$2:$D$3400,A53) -> 95 | F53: =E53/3399 -> 0.027949397
A54: Zebra | B54: Zebra | C54: Tên sản phẩm | D54: https://www.zebrapen.com/ | E54: =COUNTIF('Database sản phẩm'!$D$2:$D$3400,A54) -> 3 | F54: =E54/3399 -> 0.00088261253

Sheet Thông tin dữ liệu
A1: THÔNG TIN DATABASE MÃ HÀNG VĂN PHÒNG PHẨM PHỤC HY
A3: Thuộc tính | B3: Giá trị
A4: Tên dữ liệu | B4: Database tra cứu mã hàng văn phòng phẩm Phục Hy
A5: Đơn vị phát hành | B5: Phục Hy
A6: Website | B6: https://phuchy.vn/
A7: Phiên bản | B7: v2.0
A8: Ngày cập nhật | B8: 2026-08-13
A9: Số bản ghi | B9: 3399
A10: Số nhóm sản phẩm | B10: 15
A11: Số thương hiệu nhận diện | B11: 51
A12: Sản phẩm đã nhận diện thương hiệu | B12: 2142
A13: Tỷ lệ nhận diện thương hiệu | B13: 0.63018535
A14: Quy tắc product_id | B14: PHY-VPP- + 16 ký tự SHA-256 từ SKU gốc; duy nhất, ổn định và không phụ thuộc nhóm/thương hiệu.
A15: Quy tắc thương hiệu | B15: Ưu tiên tên sản phẩm; sau đó dùng tiền tố SKU/mã nhóm đã đối chiếu. Không đủ căn cứ thì để trống.
A16: Quy tắc nhóm | B16: Phân nhóm theo công dụng thực tế của tên hàng; sắp xếp theo nhóm, thương hiệu, tên sản phẩm và SKU.
A17: Giá bán | B17: Giá bán chưa VAT; VAT 8% chưa cộng vào cột giá.
A18: SKU | B18: Giữ nguyên mã SKU của bảng nguồn.
A19: Khuyến nghị cập nhật | B19: Khi SKU đổi, giữ nguyên product_id cũ và lưu SKU cũ làm bí danh để bảo toàn liên kết.
